BEGIN:VCALENDAR
VERSION:2.0
PRODID:-//hacksw/handcal//NONSGML v1.0//EN
BEGIN:VEVENT
SUMMARY:FINALE COUPE RESERVE
UID:0149851b-c966-4c13-9e51-c5d590cbc3eb
DTSTART:20260524T120000Z
DTEND:20260524T140000Z
LOCATION:Stade de la Finale Stade du Malnoy 54250 Champigneulles
CATEGORIES:Sportif
STATUS:
URL;VALUE=URI:https://www.usrosieres.fr/evenements/2026/05/24/finale-coupe-reserve-2443607
END:VEVENT
END:VCALENDAR
